{"text_format":"3","workbook":"xlsx","n_sheets":6,"sheets":["RAUPEX Permeation Argon","max Druck-Temperatur-Belastung","Nutzungsbedingungen","Rohr-Datenbank","Modell-Rechnung","Experimentelle Daten"],"not_rendered":{"charts":6,"images":8,"defined_names":3},"read":"whole","date_system":"1900"}

{"sheet":"RAUPEX Permeation Argon","index":0,"n_rows":41,"n_cols":15,"rows_kept":41,"merged":[[33,2,33,3]]}
[]
[]
[{"$nulls":3},"RAUPEX INDUSTRIEROHRSYSTEM - ARGON PERMEATION"]
[{"$nulls":3},"Modell-Annahme und -Näherungsberechnung Fa Mecadi GmbH"]
[]
[]
[]
[]
[]
[null,"Konstanter Argon-Innendruck ",{"$nulls":4},"Initiale, einmalige Argon-Befüllung"]
[null,"über den Berechnungszeitraum",{"$nulls":4},"über den Berechnungszeitraum"]
[{"$nulls":7},{"$f":"H13","v":"63 x 5,8"}]
[null,"RAUPEX-Rohr","20 x 1,9","[mm]",null,null,"RAUPEX-Rohr                                              ","63 x 5,8","[mm]"]
[null,"Rohrlänge sichtbar",1,"[m]",null,null,"Rohrlänge sichtbar",10,"[m]"]
[null,"Temperatur *                                               ",20,"[°C]",null,null,"Temperatur *                                               ",20,"[°C]"]
[null,"Fülldruck konstant *",6,"[bar]",null,null,"Fülldruck einmalig *",6,"[bar]"]
[null,"Zeit",1,"[Tage]",null,null,"Zeit",1,"[Tage]"]
[null,"Permeation Argon",{"$f":"VLOOKUP(C13,'Rohr-Datenbank'!D:N,11,FALSE)","v":{"v":0.010409376860582764,"d":"0.01"}},"[Liter]",null,null,"Fülldruck verbleibend",{"$f":"'Modell-Rechnung'!F104","v":{"v":5.994788106670537,"d":"5.99"}},"[bar]"]
{"$rows_empty":13}
[null,"Hauptbestandteile trockener Luft auf Meereshöhe:"]
[]
[null,null,"Volumenanteile"]
[null,null,"[%]","[Liter/m3]"]
[null,"Stickstoff",78.08,{"$f":"C36/100*1000","v":780.8}]
[null,"Sauerstoff",20.94,{"$f":"C37/100*1000","v":209.4}]
[null,"Argon",0.93,9.3]
[null,"Rest",{"$f":"100-(C36+C37+C38)","v":{"v":0.04999999999999716,"d":"0.05"}},0.4999999999999716]
[{"$nulls":13},"Version 1.0"]
[{"$nulls":13},"Druckdatum:",{"$f":"TODAY()","v":"2021-05-27"}]

{"sheet":"max Druck-Temperatur-Belastung","index":1,"n_rows":0,"n_cols":0,"rows_kept":0}

{"sheet":"Nutzungsbedingungen","index":2,"n_rows":0,"n_cols":0,"rows_kept":0}

{"sheet":"Rohr-Datenbank","index":3,"n_rows":24,"n_cols":14,"rows_kept":24,"hidden":true}
[]
[{"$f":"'RAUPEX Permeation Argon'!C15","v":20},"Temperatur / °C"]
[{"$f":"'RAUPEX Permeation Argon'!C14","v":1},"sichtbare Rohrlänge / m"]
[{"$f":"'RAUPEX Permeation Argon'!C16","v":6},"Fülldruck (Ar) / bar"]
[{"$f":"'RAUPEX Permeation Argon'!C17","v":1},"Zeit / Tag"]
[{"$nulls":3},"Rohr-ID","Rohrabmessung\nAußendurchmesser / mm","Rohrabmessung\nWandstärke / mm","Innendurchmesser\n/ mm","Innenumfang\n/ m","Innenfläche\n/ m2","Innenvolumen \n/ cm3",null,"P(Ar) \n/ cm3 Tag-1",{"$f":"\"P(Ar)\n/ cm3 (\" &A5 &\" Tag/e)-1\"","v":"P(Ar)\n/ cm3 (1 Tag/e)-1"},{"$f":"\"P(Ar)\n/ L (\" &A5 &\" Tag/e)-1\"","v":"P(Ar)\n/ L (1 Tag/e)-1"}]
[{"$nulls":3},{"$f":"E7&\" x \"&F7","v":"20 x 1,9"},20,1.9,{"$f":"E7-F7-F7","v":16.200000000000003},{"$f":"((G7)*PI())/1000","v":{"v":0.05089380098815466,"d":"0.051"}},{"$f":"H7*$A$3","v":{"v":0.05089380098815466,"d":"5.1E-02"}},{"$f":"PI()*\n((G7/10/2)^2)*\n($A$3*100)","v":{"v":206.1198940020264,"d":"206"}},null,{"$f":"(EXP('Experimentelle Daten'!$Z$3/8.31446/($A$2+273.15)+'Experimentelle Daten'!$AA$3))/F7*I7*$A$4*(60*60*24)","v":{"v":10.409376860582764,"d":"10.4"}},{"$f":"L7*$A$5","v":{"v":10.409376860582764,"d":"10"}},{"$f":"M7/1000","v":{"v":0.010409376860582764,"d":"0.0104094"}}]
[{"$nulls":3},{"$f":"E8&\" x \"&F8","v":"25 x 2,3"},25,2.3,{"$f":"E8-F8-F8","v":20.4},{"$f":"((G8)*PI())/1000","v":{"v":0.06408849013323177,"d":"0.064"}},{"v":0.06408849013323177,"d":"6.4E-02"},{"$f":"PI()*\n((G8/10/2)^2)*\n($A$3*100)","v":{"v":326.85129967948205,"d":"327"}},null,{"$f":"(EXP('Experimentelle Daten'!$Z$3/8.31446/($A$2+273.15)+'Experimentelle Daten'!$AA$3))/F8*I8*$A$4*(60*60*24)","v":{"v":10.82843390005872,"d":"10.8"}},{"v":10.82843390005872,"d":"11"},{"$f":"M8/1000","v":{"v":0.010828433900058719,"d":"0.0108284"}}]
[{"$nulls":3},"32 x 2,9",32,2.9,{"$f":"E9-F9-F9","v":26.200000000000003},{"v":0.08230972752405259,"d":"0.082"},{"v":0.08230972752405259,"d":"8.2E-02"},{"v":539.1287152825445,"d":"539"},null,{"$f":"(EXP('Experimentelle Daten'!$Z$3/8.31446/($A$2+273.15)+'Experimentelle Daten'!$AA$3))/F9*I9*$A$4*(60*60*24)","v":{"v":11.029773948910385,"d":"11.0"}},{"v":11.029773948910385,"d":"11"},{"v":0.011029773948910386,"d":"0.0110298"}]
[{"$nulls":3},"40 x 3,7",40,3.7,32.599999999999994,{"v":0.10241592050702723,"d":"0.102"},{"v":0.10241592050702723,"d":"1.0E-01"},{"v":834.6897521322719,"d":"835"},null,{"$f":"(EXP('Experimentelle Daten'!$Z$3/8.31446/($A$2+273.15)+'Experimentelle Daten'!$AA$3))/F10*I10*$A$4*(60*60*24)","v":{"v":10.756703415824093,"d":"10.8"}},{"v":10.756703415824093,"d":"11"},{"v":0.010756703415824093,"d":"0.0107567"}]
[{"$nulls":3},"50 x 4,6",50,4.6,40.8,{"v":0.12817698026646354,"d":"0.128"},{"v":0.12817698026646354,"d":"1.3E-01"},{"v":1307.4051987179282,"d":"1307"},null,{"$f":"(EXP('Experimentelle Daten'!$Z$3/8.31446/($A$2+273.15)+'Experimentelle Daten'!$AA$3))/F11*I11*$A$4*(60*60*24)","v":{"v":10.82843390005872,"d":"10.8"}},{"v":10.82843390005872,"d":"11"},{"v":0.010828433900058719,"d":"0.0108284"}]
[{"$nulls":3},"63 x 5,8",63,5.8,51.400000000000006,{"v":0.1614778623945154,"d":"0.161"},{"v":0.1614778623945154,"d":"1.6E-01"},{"v":2074.990531769523,"d":"2075"},null,{"$f":"(EXP('Experimentelle Daten'!$Z$3/8.31446/($A$2+273.15)+'Experimentelle Daten'!$AA$3))/F12*I12*$A$4*(60*60*24)","v":{"v":10.819282079656373,"d":"10.8"}},{"v":10.819282079656373,"d":"11"},{"v":0.010819282079656373,"d":"0.0108193"}]
[{"$nulls":3},"75 x 6,8",75,6.8,61.400000000000006,{"v":0.1928937889304133,"d":"0.193"},{"v":0.1928937889304133,"d":"1.9E-01"},{"v":2960.919660081844,"d":"2961"},null,{"$f":"(EXP('Experimentelle Daten'!$Z$3/8.31446/($A$2+273.15)+'Experimentelle Daten'!$AA$3))/F13*I13*$A$4*(60*60*24)","v":{"v":11.023583011579385,"d":"11.0"}},{"v":11.023583011579385,"d":"11"},{"v":0.011023583011579385,"d":"0.0110236"}]
[{"$nulls":3},"90 x 8,2",90,8.2,73.6,{"v":0.23122121930420875,"d":"0.231"},{"v":0.23122121930420875,"d":"2.3E-01"},{"v":4254.470435197441,"d":"4254"},null,{"$f":"(EXP('Experimentelle Daten'!$Z$3/8.31446/($A$2+273.15)+'Experimentelle Daten'!$AA$3))/F14*I14*$A$4*(60*60*24)","v":{"v":10.957898676482184,"d":"11.0"}},{"v":10.957898676482184,"d":"11"},{"v":0.010957898676482183,"d":"0.0109579"}]
[{"$nulls":3},"110 x 10",110,10,90,{"v":0.2827433388230814,"d":"0.283"},{"v":0.2827433388230814,"d":"2.8E-01"},{"v":6361.725123519331,"d":"6362"},null,{"$f":"(EXP('Experimentelle Daten'!$Z$3/8.31446/($A$2+273.15)+'Experimentelle Daten'!$AA$3))/F15*I15*$A$4*(60*60*24)","v":{"v":10.987675575059582,"d":"11.0"}},{"v":10.987675575059582,"d":"11"},{"v":0.010987675575059582,"d":"0.0109877"}]
[{"$nulls":3},"125 x 11,4",125,11.4,102.19999999999999,{"v":0.3210707691968768,"d":"0.321"},{"v":0.3210707691968768,"d":"3.2E-01"},{"v":8203.358152980201,"d":"8203"},null,{"$f":"(EXP('Experimentelle Daten'!$Z$3/8.31446/($A$2+273.15)+'Experimentelle Daten'!$AA$3))/F16*I16*$A$4*(60*60*24)","v":{"v":10.944838633246482,"d":"10.9"}},{"v":10.944838633246482,"d":"11"},{"v":0.010944838633246481,"d":"0.0109448"}]
[{"$nulls":3},"140 x 12,7",140,12.7,114.6,{"v":0.36002651810139025,"d":"0.360"},{"v":0.36002651810139025,"d":"3.6E-01"},{"v":10314.75974360483,"d":"10315"},null,{"$f":"(EXP('Experimentelle Daten'!$Z$3/8.31446/($A$2+273.15)+'Experimentelle Daten'!$AA$3))/F17*I17*$A$4*(60*60*24)","v":{"v":11.016514618563674,"d":"11.0"}},{"v":11.016514618563674,"d":"11"},{"v":0.011016514618563674,"d":"0.0110165"}]
[{"$nulls":3},"160 x 14,6",160,14.6,130.8,{"v":0.410920319089545,"d":"0.411"},{"v":0.410920319089545,"d":"4.1E-01"},{"v":13437.094434228124,"d":"13437"},null,{"$f":"(EXP('Experimentelle Daten'!$Z$3/8.31446/($A$2+273.15)+'Experimentelle Daten'!$AA$3))/F18*I18*$A$4*(60*60*24)","v":{"v":10.937503540470269,"d":"10.9"}},{"v":10.937503540470269,"d":"11"},{"v":0.010937503540470269,"d":"0.0109375"}]
[{"$nulls":3},"20 x 2,8",20,2.8,14.399999999999999,{"v":0.04523893421169301,"d":"0.045"},{"v":0.04523893421169301,"d":"4.5E-02"},{"v":162.86016316209486,"d":"163"},null,{"$f":"(EXP('Experimentelle Daten'!$Z$3/8.31446/($A$2+273.15)+'Experimentelle Daten'!$AA$3))/F19*I19*$A$4*(60*60*24)","v":{"v":6.278671757176903,"d":"6.3"}},{"v":6.278671757176903,"d":"6"},{"v":0.006278671757176902,"d":"0.0062787"}]
[{"$nulls":3},"25 x 3,5",25,3.5,18,{"v":0.05654866776461628,"d":"0.057"},{"v":0.05654866776461628,"d":"5.7E-02"},{"v":254.46900494077326,"d":"254"},null,{"$f":"(EXP('Experimentelle Daten'!$Z$3/8.31446/($A$2+273.15)+'Experimentelle Daten'!$AA$3))/F20*I20*$A$4*(60*60*24)","v":{"v":6.2786717571769035,"d":"6.3"}},{"v":6.2786717571769035,"d":"6"},{"v":0.006278671757176903,"d":"0.0062787"}]
[{"$nulls":3},"32 x 4,4",32,4.4,23.200000000000003,{"v":0.07288494956328322,"d":"0.073"},{"v":0.07288494956328322,"d":"7.3E-02"},{"v":422.7327074670427,"d":"423"},null,{"$f":"(EXP('Experimentelle Daten'!$Z$3/8.31446/($A$2+273.15)+'Experimentelle Daten'!$AA$3))/F21*I21*$A$4*(60*60*24)","v":{"v":6.4372240742773315,"d":"6.4"}},{"v":6.4372240742773315,"d":"6"},{"v":0.006437224074277332,"d":"0.0064372"}]
[{"$nulls":3},"40 x 5,5",40,5.5,29,{"v":0.09110618695410401,"d":"0.091"},{"v":0.09110618695410401,"d":"9.1E-02"},{"v":660.519855417254,"d":"661"},null,{"$f":"(EXP('Experimentelle Daten'!$Z$3/8.31446/($A$2+273.15)+'Experimentelle Daten'!$AA$3))/F22*I22*$A$4*(60*60*24)","v":{"v":6.4372240742773315,"d":"6.4"}},{"v":6.4372240742773315,"d":"6"},{"v":0.006437224074277332,"d":"0.0064372"}]
[{"$nulls":3},"50 x 6,9",50,6.9,36.2,{"v":0.11372565405995051,"d":"0.114"},{"v":0.11372565405995051,"d":"1.1E-01"},{"v":1029.217169242552,"d":"1029"},null,{"$f":"(EXP('Experimentelle Daten'!$Z$3/8.31446/($A$2+273.15)+'Experimentelle Daten'!$AA$3))/F23*I23*$A$4*(60*60*24)","v":{"v":6.405054038923621,"d":"6.4"}},{"v":6.405054038923621,"d":"6"},{"v":0.006405054038923621,"d":"0.0064051"}]
[{"$nulls":3},"63 x 8,6",63,8.6,45.8,{"v":0.1438849435344125,"d":"0.144"},{"v":0.1438849435344125,"d":"1.4E-01"},{"v":1647.4826034690234,"d":"1647"},null,{"$f":"(EXP('Experimentelle Daten'!$Z$3/8.31446/($A$2+273.15)+'Experimentelle Daten'!$AA$3))/F24*I24*$A$4*(60*60*24)","v":{"v":6.501751180074015,"d":"6.5"}},{"v":6.501751180074015,"d":"7"},{"v":0.006501751180074015,"d":"0.0065018"}]

{"sheet":"Modell-Rechnung","index":4,"n_rows":104,"n_cols":8,"rows_kept":104,"hidden":true}
[]
[]
[{"$f":"'RAUPEX Permeation Argon'!H15","v":20},"Temperatur / °C",null,"Schritt","Zeit / Tag","p(Ar) / bar","P(Ar) / cm3 Tag-1","∆V / cm3"]
[{"$f":"'RAUPEX Permeation Argon'!H12","v":"63 x 5,8"},"Rohr-ID / mm",null,0,{"$f":"$A$7/100*D4","v":{"v":0,"d":"0.0"}},{"$f":"A6","v":{"v":6,"d":"6.0"}},{"$f":"(EXP('Experimentelle Daten'!$Z$3/8.31446/($A$3+273.15)+'Experimentelle Daten'!$AA$3))/$A$9*$A$10*F4*(60*60*24)","v":{"v":108.19282079656372,"d":"108.193"}},{"$f":"G4*($E$5)","v":{"v":1.0819282079656372,"d":"1.1"}}]
[{"$f":"'RAUPEX Permeation Argon'!H14","v":10},"sichtbare Rohrlänge / m",null,1,{"v":0.01,"d":"0.0"},{"$f":"F4-(H4/$A$11)","v":{"v":5.999947858643623,"d":"6.0"}},{"$f":"(EXP('Experimentelle Daten'!$Z$3/8.31446/($A$3+273.15)+'Experimentelle Daten'!$AA$3))/$A$9*$A$10*F5*(60*60*24)","v":{"v":108.19188057649262,"d":"108.192"}},{"$f":"G5*($E$5)","v":{"v":1.0819188057649263,"d":"1.1"}}]
[{"$f":"'RAUPEX Permeation Argon'!H16","v":6},"Fülldruck (Ar) / bar",null,2,{"v":0.02,"d":"0.0"},{"v":5.999895717740365,"d":"6.0"},{"$f":"(EXP('Experimentelle Daten'!$Z$3/8.31446/($A$3+273.15)+'Experimentelle Daten'!$AA$3))/$A$9*$A$10*F6*(60*60*24)","v":{"v":108.19094036459224,"d":"108.191"}},{"v":1.0819094036459225,"d":"1.1"}]
[{"$f":"'RAUPEX Permeation Argon'!H17","v":1},"Zeit / Tag",null,3,{"v":0.03,"d":"0.0"},{"v":5.999843577290225,"d":"6.0"},{"$f":"(EXP('Experimentelle Daten'!$Z$3/8.31446/($A$3+273.15)+'Experimentelle Daten'!$AA$3))/$A$9*$A$10*F7*(60*60*24)","v":{"v":108.19000016086252,"d":"108.190"}},{"v":1.0819000016086253,"d":"1.1"}]
[{"$nulls":3},4,{"v":0.04,"d":"0.0"},{"v":5.999791437293196,"d":"6.0"},{"$f":"(EXP('Experimentelle Daten'!$Z$3/8.31446/($A$3+273.15)+'Experimentelle Daten'!$AA$3))/$A$9*$A$10*F8*(60*60*24)","v":{"v":108.18905996530337,"d":"108.189"}},{"v":1.0818905996530337,"d":"1.1"}]
[{"$f":"VLOOKUP(A4,'Rohr-Datenbank'!D7:J24,3,FALSE)","v":5.8},"Wandstärke / mm",null,5,{"v":0.05,"d":"0.1"},{"v":5.999739297749276,"d":"6.0"},{"$f":"(EXP('Experimentelle Daten'!$Z$3/8.31446/($A$3+273.15)+'Experimentelle Daten'!$AA$3))/$A$9*$A$10*F9*(60*60*24)","v":{"v":108.18811977791475,"d":"108.188"}},{"v":1.0818811977791476,"d":"1.1"}]
[{"$f":"VLOOKUP(A4,'Rohr-Datenbank'!$D$7:$J$24,5,FALSE)*A5","v":{"v":1.614778623945154,"d":"1.6E+00"}},"Innenfläche / m2",null,6,{"v":0.06,"d":"0.1"},{"v":5.99968715865846,"d":"6.0"},{"$f":"(EXP('Experimentelle Daten'!$Z$3/8.31446/($A$3+273.15)+'Experimentelle Daten'!$AA$3))/$A$9*$A$10*F10*(60*60*24)","v":{"v":108.18717959869656,"d":"108.187"}},{"v":1.0818717959869657,"d":"1.1"}]
[{"$f":"PI()*\n((VLOOKUP(A4,'Rohr-Datenbank'!$D$7:$J$24,4,FALSE)/10/2)^2)*\n(A5*100)","v":{"v":20749.90531769523,"d":"20750"}},"Innenvolumen / cm3",null,7,{"v":0.07,"d":"0.1"},{"v":5.999635020020745,"d":"6.0"},{"$f":"(EXP('Experimentelle Daten'!$Z$3/8.31446/($A$3+273.15)+'Experimentelle Daten'!$AA$3))/$A$9*$A$10*F11*(60*60*24)","v":{"v":108.18623942764874,"d":"108.186"}},{"v":1.0818623942764876,"d":"1.1"}]
["PE-XA","Material-Kennung",null,8,{"v":0.08,"d":"0.1"},{"v":5.999582881836126,"d":"6.0"},{"$f":"(EXP('Experimentelle Daten'!$Z$3/8.31446/($A$3+273.15)+'Experimentelle Daten'!$AA$3))/$A$9*$A$10*F12*(60*60*24)","v":{"v":108.18529926477122,"d":"108.185"}},{"v":1.0818529926477123,"d":"1.1"}]
[{"$nulls":3},9,{"v":0.09,"d":"0.1"},{"v":5.9995307441046,"d":"6.0"},{"$f":"(EXP('Experimentelle Daten'!$Z$3/8.31446/($A$3+273.15)+'Experimentelle Daten'!$AA$3))/$A$9*$A$10*F13*(60*60*24)","v":{"v":108.18435911006394,"d":"108.184"}},{"v":1.0818435911006394,"d":"1.1"}]
["Rohr-Datenbank",null,null,10,0.1,{"v":5.9994786068261625,"d":"6.0"},{"$f":"(EXP('Experimentelle Daten'!$Z$3/8.31446/($A$3+273.15)+'Experimentelle Daten'!$AA$3))/$A$9*$A$10*F14*(60*60*24)","v":{"v":108.1834189635268,"d":"108.183"}},{"v":1.0818341896352681,"d":"1.1"}]
[{"$nulls":3},11,{"v":0.11,"d":"0.1"},{"v":5.9994264700008095,"d":"6.0"},{"$f":"(EXP('Experimentelle Daten'!$Z$3/8.31446/($A$3+273.15)+'Experimentelle Daten'!$AA$3))/$A$9*$A$10*F15*(60*60*24)","v":{"v":108.18247882515975,"d":"108.182"}},{"v":1.0818247882515974,"d":"1.1"}]
[{"$nulls":3},12,{"v":0.12,"d":"0.1"},{"v":5.999374333628538,"d":"6.0"},{"$f":"(EXP('Experimentelle Daten'!$Z$3/8.31446/($A$3+273.15)+'Experimentelle Daten'!$AA$3))/$A$9*$A$10*F16*(60*60*24)","v":{"v":108.18153869496271,"d":"108.182"}},{"v":1.0818153869496272,"d":"1.1"}]
[{"$nulls":3},13,{"v":0.13,"d":"0.1"},{"v":5.9993221977093425,"d":"6.0"},{"$f":"(EXP('Experimentelle Daten'!$Z$3/8.31446/($A$3+273.15)+'Experimentelle Daten'!$AA$3))/$A$9*$A$10*F17*(60*60*24)","v":{"v":108.18059857293562,"d":"108.181"}},{"v":1.0818059857293563,"d":"1.1"}]
[{"$nulls":3},14,{"v":0.14,"d":"0.1"},{"v":5.9992700622432205,"d":"6.0"},{"$f":"(EXP('Experimentelle Daten'!$Z$3/8.31446/($A$3+273.15)+'Experimentelle Daten'!$AA$3))/$A$9*$A$10*F18*(60*60*24)","v":{"v":108.17965845907842,"d":"108.180"}},{"v":1.0817965845907842,"d":"1.1"}]
[{"$nulls":3},15,{"v":0.15,"d":"0.2"},{"v":5.999217927230167,"d":"6.0"},{"$f":"(EXP('Experimentelle Daten'!$Z$3/8.31446/($A$3+273.15)+'Experimentelle Daten'!$AA$3))/$A$9*$A$10*F19*(60*60*24)","v":{"v":108.17871835339099,"d":"108.179"}},{"v":1.08178718353391,"d":"1.1"}]
[{"$nulls":3},16,{"v":0.16,"d":"0.2"},{"v":5.999165792670179,"d":"6.0"},{"$f":"(EXP('Experimentelle Daten'!$Z$3/8.31446/($A$3+273.15)+'Experimentelle Daten'!$AA$3))/$A$9*$A$10*F20*(60*60*24)","v":{"v":108.17777825587332,"d":"108.178"}},{"v":1.0817777825587331,"d":"1.1"}]
[{"$nulls":3},17,{"v":0.17,"d":"0.2"},{"v":5.999113658563252,"d":"6.0"},{"$f":"(EXP('Experimentelle Daten'!$Z$3/8.31446/($A$3+273.15)+'Experimentelle Daten'!$AA$3))/$A$9*$A$10*F21*(60*60*24)","v":{"v":108.1768381665253,"d":"108.177"}},{"v":1.081768381665253,"d":"1.1"}]
[{"$nulls":3},18,{"v":0.18,"d":"0.2"},{"v":5.999061524909383,"d":"6.0"},{"$f":"(EXP('Experimentelle Daten'!$Z$3/8.31446/($A$3+273.15)+'Experimentelle Daten'!$AA$3))/$A$9*$A$10*F22*(60*60*24)","v":{"v":108.17589808534687,"d":"108.176"}},{"v":1.0817589808534687,"d":"1.1"}]
[{"$nulls":3},19,{"v":0.19,"d":"0.2"},{"v":5.999009391708566,"d":"6.0"},{"$f":"(EXP('Experimentelle Daten'!$Z$3/8.31446/($A$3+273.15)+'Experimentelle Daten'!$AA$3))/$A$9*$A$10*F23*(60*60*24)","v":{"v":108.17495801233794,"d":"108.175"}},{"v":1.0817495801233794,"d":"1.1"}]
[{"$nulls":3},20,0.2,{"v":5.9989572589607985,"d":"6.0"},{"$f":"(EXP('Experimentelle Daten'!$Z$3/8.31446/($A$3+273.15)+'Experimentelle Daten'!$AA$3))/$A$9*$A$10*F24*(60*60*24)","v":{"v":108.17401794749847,"d":"108.174"}},{"v":1.0817401794749848,"d":"1.1"}]
[{"$nulls":3},21,{"v":0.21,"d":"0.2"},{"v":5.9989051266660764,"d":"6.0"},{"$f":"(EXP('Experimentelle Daten'!$Z$3/8.31446/($A$3+273.15)+'Experimentelle Daten'!$AA$3))/$A$9*$A$10*F25*(60*60*24)","v":{"v":108.17307789082838,"d":"108.173"}},{"v":1.0817307789082837,"d":"1.1"}]
[{"$nulls":3},22,{"v":0.22,"d":"0.2"},{"v":5.998852994824396,"d":"6.0"},{"$f":"(EXP('Experimentelle Daten'!$Z$3/8.31446/($A$3+273.15)+'Experimentelle Daten'!$AA$3))/$A$9*$A$10*F26*(60*60*24)","v":{"v":108.17213784232759,"d":"108.172"}},{"v":1.081721378423276,"d":"1.1"}]
[{"$nulls":3},23,{"v":0.23,"d":"0.2"},{"v":5.998800863435752,"d":"6.0"},{"$f":"(EXP('Experimentelle Daten'!$Z$3/8.31446/($A$3+273.15)+'Experimentelle Daten'!$AA$3))/$A$9*$A$10*F27*(60*60*24)","v":{"v":108.17119780199602,"d":"108.171"}},{"v":1.0817119780199602,"d":"1.1"}]
[{"$nulls":3},24,{"v":0.24,"d":"0.2"},{"v":5.998748732500143,"d":"6.0"},{"$f":"(EXP('Experimentelle Daten'!$Z$3/8.31446/($A$3+273.15)+'Experimentelle Daten'!$AA$3))/$A$9*$A$10*F28*(60*60*24)","v":{"v":108.17025776983363,"d":"108.170"}},{"v":1.0817025776983362,"d":"1.1"}]
[{"$nulls":3},25,{"v":0.25,"d":"0.3"},{"v":5.998696602017564,"d":"6.0"},{"$f":"(EXP('Experimentelle Daten'!$Z$3/8.31446/($A$3+273.15)+'Experimentelle Daten'!$AA$3))/$A$9*$A$10*F29*(60*60*24)","v":{"v":108.16931774584033,"d":"108.169"}},{"v":1.0816931774584033,"d":"1.1"}]
[{"$nulls":3},26,{"v":0.26,"d":"0.3"},{"v":5.998644471988009,"d":"6.0"},{"$f":"(EXP('Experimentelle Daten'!$Z$3/8.31446/($A$3+273.15)+'Experimentelle Daten'!$AA$3))/$A$9*$A$10*F30*(60*60*24)","v":{"v":108.16837773001606,"d":"108.168"}},{"v":1.0816837773001606,"d":"1.1"}]
[{"$nulls":3},27,{"v":0.27,"d":"0.3"},{"v":5.998592342411476,"d":"6.0"},{"$f":"(EXP('Experimentelle Daten'!$Z$3/8.31446/($A$3+273.15)+'Experimentelle Daten'!$AA$3))/$A$9*$A$10*F31*(60*60*24)","v":{"v":108.16743772236072,"d":"108.167"}},{"v":1.0816743772236073,"d":"1.1"}]
[{"$nulls":3},28,{"v":0.28,"d":"0.3"},{"v":5.998540213287962,"d":"6.0"},{"$f":"(EXP('Experimentelle Daten'!$Z$3/8.31446/($A$3+273.15)+'Experimentelle Daten'!$AA$3))/$A$9*$A$10*F32*(60*60*24)","v":{"v":108.16649772287427,"d":"108.166"}},{"v":1.0816649772287428,"d":"1.1"}]
[{"$nulls":3},29,{"v":0.29,"d":"0.3"},{"v":5.998488084617461,"d":"6.0"},{"$f":"(EXP('Experimentelle Daten'!$Z$3/8.31446/($A$3+273.15)+'Experimentelle Daten'!$AA$3))/$A$9*$A$10*F33*(60*60*24)","v":{"v":108.16555773155662,"d":"108.166"}},{"v":1.0816555773155663,"d":"1.1"}]
[{"$nulls":3},30,0.3,{"v":5.99843595639997,"d":"6.0"},{"$f":"(EXP('Experimentelle Daten'!$Z$3/8.31446/($A$3+273.15)+'Experimentelle Daten'!$AA$3))/$A$9*$A$10*F34*(60*60*24)","v":{"v":108.16461774840771,"d":"108.165"}},{"v":1.081646177484077,"d":"1.1"}]
[{"$nulls":3},31,{"v":0.31,"d":"0.3"},{"v":5.998383828635485,"d":"6.0"},{"$f":"(EXP('Experimentelle Daten'!$Z$3/8.31446/($A$3+273.15)+'Experimentelle Daten'!$AA$3))/$A$9*$A$10*F35*(60*60*24)","v":{"v":108.16367777342748,"d":"108.164"}},{"v":1.0816367777342748,"d":"1.1"}]
[{"$nulls":3},32,{"$f":"$A$7/100*D36","v":{"v":0.32,"d":"0.3"}},{"v":5.998331701324003,"d":"6.0"},{"$f":"(EXP('Experimentelle Daten'!$Z$3/8.31446/($A$3+273.15)+'Experimentelle Daten'!$AA$3))/$A$9*$A$10*F36*(60*60*24)","v":{"v":108.16273780661584,"d":"108.163"}},{"$f":"G36*($E$5)","v":{"v":1.0816273780661585,"d":"1.1"}}]
[{"$nulls":3},33,{"v":0.33,"d":"0.3"},{"$f":"F36-(H36/$A$11)","v":{"v":5.998279574465518,"d":"6.0"}},{"$f":"(EXP('Experimentelle Daten'!$Z$3/8.31446/($A$3+273.15)+'Experimentelle Daten'!$AA$3))/$A$9*$A$10*F37*(60*60*24)","v":{"v":108.16179784797272,"d":"108.162"}},{"v":1.0816179784797273,"d":"1.1"}]
[{"$nulls":3},34,{"v":0.34,"d":"0.3"},{"v":5.998227448060027,"d":"6.0"},{"$f":"(EXP('Experimentelle Daten'!$Z$3/8.31446/($A$3+273.15)+'Experimentelle Daten'!$AA$3))/$A$9*$A$10*F38*(60*60*24)","v":{"v":108.16085789749805,"d":"108.161"}},{"v":1.0816085789749805,"d":"1.1"}]
[{"$nulls":3},35,{"v":0.35000000000000003,"d":"0.4"},{"v":5.998175322107527,"d":"6.0"},{"$f":"(EXP('Experimentelle Daten'!$Z$3/8.31446/($A$3+273.15)+'Experimentelle Daten'!$AA$3))/$A$9*$A$10*F39*(60*60*24)","v":{"v":108.15991795519177,"d":"108.160"}},{"v":1.0815991795519178,"d":"1.1"}]
[{"$nulls":3},36,{"v":0.36,"d":"0.4"},{"v":5.998123196608013,"d":"6.0"},{"$f":"(EXP('Experimentelle Daten'!$Z$3/8.31446/($A$3+273.15)+'Experimentelle Daten'!$AA$3))/$A$9*$A$10*F40*(60*60*24)","v":{"v":108.15897802105378,"d":"108.159"}},{"v":1.0815897802105379,"d":"1.1"}]
[{"$nulls":3},37,{"v":0.37,"d":"0.4"},{"v":5.998071071561482,"d":"6.0"},{"$f":"(EXP('Experimentelle Daten'!$Z$3/8.31446/($A$3+273.15)+'Experimentelle Daten'!$AA$3))/$A$9*$A$10*F41*(60*60*24)","v":{"v":108.15803809508405,"d":"108.158"}},{"v":1.0815803809508406,"d":"1.1"}]
[{"$nulls":3},38,{"v":0.38,"d":"0.4"},{"v":5.998018946967928,"d":"6.0"},{"$f":"(EXP('Experimentelle Daten'!$Z$3/8.31446/($A$3+273.15)+'Experimentelle Daten'!$AA$3))/$A$9*$A$10*F42*(60*60*24)","v":{"v":108.15709817728248,"d":"108.157"}},{"v":1.0815709817728247,"d":"1.1"}]
[{"$nulls":3},39,{"v":0.39,"d":"0.4"},{"v":5.997966822827349,"d":"6.0"},{"$f":"(EXP('Experimentelle Daten'!$Z$3/8.31446/($A$3+273.15)+'Experimentelle Daten'!$AA$3))/$A$9*$A$10*F43*(60*60*24)","v":{"v":108.156158267649,"d":"108.156"}},{"v":1.0815615826764902,"d":"1.1"}]
[{"$nulls":3},40,0.4,{"v":5.997914699139741,"d":"6.0"},{"$f":"(EXP('Experimentelle Daten'!$Z$3/8.31446/($A$3+273.15)+'Experimentelle Daten'!$AA$3))/$A$9*$A$10*F44*(60*60*24)","v":{"v":108.15521836618358,"d":"108.155"}},{"v":1.0815521836618358,"d":"1.1"}]
[{"$nulls":3},41,{"v":0.41000000000000003,"d":"0.4"},{"v":5.9978625759051,"d":"6.0"},{"$f":"(EXP('Experimentelle Daten'!$Z$3/8.31446/($A$3+273.15)+'Experimentelle Daten'!$AA$3))/$A$9*$A$10*F45*(60*60*24)","v":{"v":108.1542784728861,"d":"108.154"}},{"v":1.081542784728861,"d":"1.1"}]
[{"$nulls":3},42,{"v":0.42,"d":"0.4"},{"v":5.997810453123422,"d":"6.0"},{"$f":"(EXP('Experimentelle Daten'!$Z$3/8.31446/($A$3+273.15)+'Experimentelle Daten'!$AA$3))/$A$9*$A$10*F46*(60*60*24)","v":{"v":108.1533385877565,"d":"108.153"}},{"v":1.0815333858775649,"d":"1.1"}]
[{"$nulls":3},43,{"v":0.43,"d":"0.4"},{"v":5.997758330794702,"d":"6.0"},{"$f":"(EXP('Experimentelle Daten'!$Z$3/8.31446/($A$3+273.15)+'Experimentelle Daten'!$AA$3))/$A$9*$A$10*F47*(60*60*24)","v":{"v":108.15239871079473,"d":"108.152"}},{"v":1.0815239871079474,"d":"1.1"}]
[{"$nulls":3},44,{"v":0.44,"d":"0.4"},{"v":5.997706208918937,"d":"6.0"},{"$f":"(EXP('Experimentelle Daten'!$Z$3/8.31446/($A$3+273.15)+'Experimentelle Daten'!$AA$3))/$A$9*$A$10*F48*(60*60*24)","v":{"v":108.1514588420007,"d":"108.151"}},{"v":1.081514588420007,"d":"1.1"}]
[{"$nulls":3},45,{"v":0.45,"d":"0.5"},{"v":5.997654087496123,"d":"6.0"},{"$f":"(EXP('Experimentelle Daten'!$Z$3/8.31446/($A$3+273.15)+'Experimentelle Daten'!$AA$3))/$A$9*$A$10*F49*(60*60*24)","v":{"v":108.15051898137433,"d":"108.151"}},{"v":1.0815051898137433,"d":"1.1"}]
[{"$nulls":3},46,{"v":0.46,"d":"0.5"},{"v":5.997601966526256,"d":"6.0"},{"$f":"(EXP('Experimentelle Daten'!$Z$3/8.31446/($A$3+273.15)+'Experimentelle Daten'!$AA$3))/$A$9*$A$10*F50*(60*60*24)","v":{"v":108.14957912891556,"d":"108.150"}},{"v":1.0814957912891556,"d":"1.1"}]
[{"$nulls":3},47,{"v":0.47000000000000003,"d":"0.5"},{"v":5.997549846009331,"d":"6.0"},{"$f":"(EXP('Experimentelle Daten'!$Z$3/8.31446/($A$3+273.15)+'Experimentelle Daten'!$AA$3))/$A$9*$A$10*F51*(60*60*24)","v":{"v":108.14863928462432,"d":"108.149"}},{"v":1.0814863928462433,"d":"1.1"}]
[{"$nulls":3},48,{"v":0.48,"d":"0.5"},{"v":5.997497725945346,"d":"6.0"},{"$f":"(EXP('Experimentelle Daten'!$Z$3/8.31446/($A$3+273.15)+'Experimentelle Daten'!$AA$3))/$A$9*$A$10*F52*(60*60*24)","v":{"v":108.14769944850053,"d":"108.148"}},{"v":1.0814769944850053,"d":"1.1"}]
[{"$nulls":3},49,{"v":0.49,"d":"0.5"},{"v":5.997445606334296,"d":"6.0"},{"$f":"(EXP('Experimentelle Daten'!$Z$3/8.31446/($A$3+273.15)+'Experimentelle Daten'!$AA$3))/$A$9*$A$10*F53*(60*60*24)","v":{"v":108.14675962054416,"d":"108.147"}},{"v":1.0814675962054416,"d":"1.1"}]
[{"$nulls":3},50,0.5,{"v":5.9973934871761765,"d":"6.0"},{"$f":"(EXP('Experimentelle Daten'!$Z$3/8.31446/($A$3+273.15)+'Experimentelle Daten'!$AA$3))/$A$9*$A$10*F54*(60*60*24)","v":{"v":108.14581980075508,"d":"108.146"}},{"v":1.0814581980075508,"d":"1.1"}]
[{"$nulls":3},51,{"v":0.51,"d":"0.5"},{"v":5.997341368470985,"d":"6.0"},{"$f":"(EXP('Experimentelle Daten'!$Z$3/8.31446/($A$3+273.15)+'Experimentelle Daten'!$AA$3))/$A$9*$A$10*F55*(60*60*24)","v":{"v":108.14487998913326,"d":"108.145"}},{"v":1.0814487998913327,"d":"1.1"}]
[{"$nulls":3},52,{"v":0.52,"d":"0.5"},{"v":5.997289250218716,"d":"6.0"},{"$f":"(EXP('Experimentelle Daten'!$Z$3/8.31446/($A$3+273.15)+'Experimentelle Daten'!$AA$3))/$A$9*$A$10*F56*(60*60*24)","v":{"v":108.1439401856786,"d":"108.144"}},{"v":1.081439401856786,"d":"1.1"}]
[{"$nulls":3},53,{"v":0.53,"d":"0.5"},{"v":5.997237132419367,"d":"6.0"},{"$f":"(EXP('Experimentelle Daten'!$Z$3/8.31446/($A$3+273.15)+'Experimentelle Daten'!$AA$3))/$A$9*$A$10*F57*(60*60*24)","v":{"v":108.14300039039105,"d":"108.143"}},{"v":1.0814300039039106,"d":"1.1"}]
[{"$nulls":3},54,{"v":0.54,"d":"0.5"},{"v":5.997185015072934,"d":"6.0"},{"$f":"(EXP('Experimentelle Daten'!$Z$3/8.31446/($A$3+273.15)+'Experimentelle Daten'!$AA$3))/$A$9*$A$10*F58*(60*60*24)","v":{"v":108.14206060327054,"d":"108.142"}},{"v":1.0814206060327054,"d":"1.1"}]
[{"$nulls":3},55,{"v":0.55,"d":"0.6"},{"v":5.997132898179412,"d":"6.0"},{"$f":"(EXP('Experimentelle Daten'!$Z$3/8.31446/($A$3+273.15)+'Experimentelle Daten'!$AA$3))/$A$9*$A$10*F59*(60*60*24)","v":{"v":108.141120824317,"d":"108.141"}},{"v":1.08141120824317,"d":"1.1"}]
[{"$nulls":3},56,{"v":0.56,"d":"0.6"},{"v":5.997080781738798,"d":"6.0"},{"$f":"(EXP('Experimentelle Daten'!$Z$3/8.31446/($A$3+273.15)+'Experimentelle Daten'!$AA$3))/$A$9*$A$10*F60*(60*60*24)","v":{"v":108.14018105353034,"d":"108.140"}},{"v":1.0814018105353034,"d":"1.1"}]
[{"$nulls":3},57,{"v":0.5700000000000001,"d":"0.6"},{"v":5.997028665751087,"d":"6.0"},{"$f":"(EXP('Experimentelle Daten'!$Z$3/8.31446/($A$3+273.15)+'Experimentelle Daten'!$AA$3))/$A$9*$A$10*F61*(60*60*24)","v":{"v":108.1392412909105,"d":"108.139"}},{"v":1.081392412909105,"d":"1.1"}]
[{"$nulls":3},58,{"v":0.58,"d":"0.6"},{"v":5.996976550216276,"d":"6.0"},{"$f":"(EXP('Experimentelle Daten'!$Z$3/8.31446/($A$3+273.15)+'Experimentelle Daten'!$AA$3))/$A$9*$A$10*F62*(60*60*24)","v":{"v":108.13830153645742,"d":"108.138"}},{"v":1.0813830153645743,"d":"1.1"}]
[{"$nulls":3},59,{"v":0.59,"d":"0.6"},{"v":5.996924435134361,"d":"6.0"},{"$f":"(EXP('Experimentelle Daten'!$Z$3/8.31446/($A$3+273.15)+'Experimentelle Daten'!$AA$3))/$A$9*$A$10*F63*(60*60*24)","v":{"v":108.13736179017101,"d":"108.137"}},{"v":1.0813736179017102,"d":"1.1"}]
[{"$nulls":3},60,0.6,{"v":5.996872320505338,"d":"6.0"},{"$f":"(EXP('Experimentelle Daten'!$Z$3/8.31446/($A$3+273.15)+'Experimentelle Daten'!$AA$3))/$A$9*$A$10*F64*(60*60*24)","v":{"v":108.13642205205122,"d":"108.136"}},{"v":1.0813642205205123,"d":"1.1"}]
[{"$nulls":3},61,{"v":0.61,"d":"0.6"},{"v":5.996820206329202,"d":"6.0"},{"$f":"(EXP('Experimentelle Daten'!$Z$3/8.31446/($A$3+273.15)+'Experimentelle Daten'!$AA$3))/$A$9*$A$10*F65*(60*60*24)","v":{"v":108.13548232209796,"d":"108.135"}},{"v":1.0813548232209795,"d":"1.1"}]
[{"$nulls":3},62,{"v":0.62,"d":"0.6"},{"v":5.996768092605951,"d":"6.0"},{"$f":"(EXP('Experimentelle Daten'!$Z$3/8.31446/($A$3+273.15)+'Experimentelle Daten'!$AA$3))/$A$9*$A$10*F66*(60*60*24)","v":{"v":108.13454260031115,"d":"108.135"}},{"v":1.0813454260031115,"d":"1.1"}]
[{"$nulls":3},63,{"v":0.63,"d":"0.6"},{"v":5.99671597933558,"d":"6.0"},{"$f":"(EXP('Experimentelle Daten'!$Z$3/8.31446/($A$3+273.15)+'Experimentelle Daten'!$AA$3))/$A$9*$A$10*F67*(60*60*24)","v":{"v":108.13360288669077,"d":"108.134"}},{"v":1.0813360288669076,"d":"1.1"}]
[{"$nulls":3},64,{"$f":"$A$7/100*D68","v":{"v":0.64,"d":"0.6"}},{"v":5.996663866518085,"d":"6.0"},{"$f":"(EXP('Experimentelle Daten'!$Z$3/8.31446/($A$3+273.15)+'Experimentelle Daten'!$AA$3))/$A$9*$A$10*F68*(60*60*24)","v":{"v":108.13266318123668,"d":"108.133"}},{"$f":"G68*($E$5)","v":{"v":1.0813266318123669,"d":"1.1"}}]
[{"$nulls":3},65,{"v":0.65,"d":"0.7"},{"$f":"F68-(H68/$A$11)","v":{"v":5.996611754153461,"d":"6.0"}},{"$f":"(EXP('Experimentelle Daten'!$Z$3/8.31446/($A$3+273.15)+'Experimentelle Daten'!$AA$3))/$A$9*$A$10*F69*(60*60*24)","v":{"v":108.13172348394886,"d":"108.132"}},{"$f":"G69*($E$5)","v":{"v":1.0813172348394886,"d":"1.1"}}]
[{"$nulls":3},66,{"v":0.66,"d":"0.7"},{"v":5.9965596422417065,"d":"6.0"},{"$f":"(EXP('Experimentelle Daten'!$Z$3/8.31446/($A$3+273.15)+'Experimentelle Daten'!$AA$3))/$A$9*$A$10*F70*(60*60*24)","v":{"v":108.13078379482721,"d":"108.131"}},{"v":1.0813078379482721,"d":"1.1"}]
[{"$nulls":3},67,{"v":0.67,"d":"0.7"},{"v":5.996507530782816,"d":"6.0"},{"$f":"(EXP('Experimentelle Daten'!$Z$3/8.31446/($A$3+273.15)+'Experimentelle Daten'!$AA$3))/$A$9*$A$10*F71*(60*60*24)","v":{"v":108.12984411387168,"d":"108.130"}},{"v":1.0812984411387168,"d":"1.1"}]
[{"$nulls":3},68,{"v":0.68,"d":"0.7"},{"v":5.996455419776786,"d":"6.0"},{"$f":"(EXP('Experimentelle Daten'!$Z$3/8.31446/($A$3+273.15)+'Experimentelle Daten'!$AA$3))/$A$9*$A$10*F72*(60*60*24)","v":{"v":108.12890444108217,"d":"108.129"}},{"v":1.0812890444108216,"d":"1.1"}]
[{"$nulls":3},69,{"v":0.6900000000000001,"d":"0.7"},{"v":5.996403309223612,"d":"6.0"},{"$f":"(EXP('Experimentelle Daten'!$Z$3/8.31446/($A$3+273.15)+'Experimentelle Daten'!$AA$3))/$A$9*$A$10*F73*(60*60*24)","v":{"v":108.12796477645865,"d":"108.128"}},{"v":1.0812796477645865,"d":"1.1"}]
[{"$nulls":3},70,{"v":0.7000000000000001,"d":"0.7"},{"v":5.996351199123291,"d":"6.0"},{"$f":"(EXP('Experimentelle Daten'!$Z$3/8.31446/($A$3+273.15)+'Experimentelle Daten'!$AA$3))/$A$9*$A$10*F74*(60*60*24)","v":{"v":108.12702512000104,"d":"108.127"}},{"v":1.0812702512000103,"d":"1.1"}]
[{"$nulls":3},71,{"v":0.71,"d":"0.7"},{"v":5.996299089475818,"d":"6.0"},{"$f":"(EXP('Experimentelle Daten'!$Z$3/8.31446/($A$3+273.15)+'Experimentelle Daten'!$AA$3))/$A$9*$A$10*F75*(60*60*24)","v":{"v":108.12608547170925,"d":"108.126"}},{"v":1.0812608547170925,"d":"1.1"}]
[{"$nulls":3},72,{"v":0.72,"d":"0.7"},{"v":5.99624698028119,"d":"6.0"},{"$f":"(EXP('Experimentelle Daten'!$Z$3/8.31446/($A$3+273.15)+'Experimentelle Daten'!$AA$3))/$A$9*$A$10*F76*(60*60*24)","v":{"v":108.1251458315832,"d":"108.125"}},{"v":1.081251458315832,"d":"1.1"}]
[{"$nulls":3},73,{"v":0.73,"d":"0.7"},{"v":5.9961948715394024,"d":"6.0"},{"$f":"(EXP('Experimentelle Daten'!$Z$3/8.31446/($A$3+273.15)+'Experimentelle Daten'!$AA$3))/$A$9*$A$10*F77*(60*60*24)","v":{"v":108.12420619962283,"d":"108.124"}},{"v":1.0812420619962284,"d":"1.1"}]
[{"$nulls":3},74,{"v":0.74,"d":"0.7"},{"v":5.996142763250452,"d":"6.0"},{"$f":"(EXP('Experimentelle Daten'!$Z$3/8.31446/($A$3+273.15)+'Experimentelle Daten'!$AA$3))/$A$9*$A$10*F78*(60*60*24)","v":{"v":108.1232665758281,"d":"108.123"}},{"v":1.081232665758281,"d":"1.1"}]
[{"$nulls":3},75,{"v":0.75,"d":"0.8"},{"v":5.996090655414334,"d":"6.0"},{"$f":"(EXP('Experimentelle Daten'!$Z$3/8.31446/($A$3+273.15)+'Experimentelle Daten'!$AA$3))/$A$9*$A$10*F79*(60*60*24)","v":{"v":108.1223269601989,"d":"108.122"}},{"v":1.081223269601989,"d":"1.1"}]
[{"$nulls":3},76,{"v":0.76,"d":"0.8"},{"v":5.996038548031045,"d":"6.0"},{"$f":"(EXP('Experimentelle Daten'!$Z$3/8.31446/($A$3+273.15)+'Experimentelle Daten'!$AA$3))/$A$9*$A$10*F80*(60*60*24)","v":{"v":108.12138735273517,"d":"108.121"}},{"v":1.0812138735273518,"d":"1.1"}]
[{"$nulls":3},77,{"v":0.77,"d":"0.8"},{"v":5.995986441100581,"d":"6.0"},{"$f":"(EXP('Experimentelle Daten'!$Z$3/8.31446/($A$3+273.15)+'Experimentelle Daten'!$AA$3))/$A$9*$A$10*F81*(60*60*24)","v":{"v":108.12044775343685,"d":"108.120"}},{"v":1.0812044775343685,"d":"1.1"}]
[{"$nulls":3},78,{"v":0.78,"d":"0.8"},{"v":5.995934334622938,"d":"6.0"},{"$f":"(EXP('Experimentelle Daten'!$Z$3/8.31446/($A$3+273.15)+'Experimentelle Daten'!$AA$3))/$A$9*$A$10*F82*(60*60*24)","v":{"v":108.11950816230386,"d":"108.120"}},{"v":1.0811950816230387,"d":"1.1"}]
[{"$nulls":3},79,{"v":0.79,"d":"0.8"},{"v":5.995882228598112,"d":"6.0"},{"$f":"(EXP('Experimentelle Daten'!$Z$3/8.31446/($A$3+273.15)+'Experimentelle Daten'!$AA$3))/$A$9*$A$10*F83*(60*60*24)","v":{"v":108.11856857933611,"d":"108.119"}},{"v":1.081185685793361,"d":"1.1"}]
[{"$nulls":3},80,0.8,{"v":5.995830123026099,"d":"6.0"},{"$f":"(EXP('Experimentelle Daten'!$Z$3/8.31446/($A$3+273.15)+'Experimentelle Daten'!$AA$3))/$A$9*$A$10*F84*(60*60*24)","v":{"v":108.11762900453357,"d":"108.118"}},{"v":1.0811762900453357,"d":"1.1"}]
[{"$nulls":3},81,{"v":0.81,"d":"0.8"},{"v":5.995778017906895,"d":"6.0"},{"$f":"(EXP('Experimentelle Daten'!$Z$3/8.31446/($A$3+273.15)+'Experimentelle Daten'!$AA$3))/$A$9*$A$10*F85*(60*60*24)","v":{"v":108.11668943789613,"d":"108.117"}},{"v":1.0811668943789614,"d":"1.1"}]
[{"$nulls":3},82,{"v":0.8200000000000001,"d":"0.8"},{"v":5.995725913240497,"d":"6.0"},{"$f":"(EXP('Experimentelle Daten'!$Z$3/8.31446/($A$3+273.15)+'Experimentelle Daten'!$AA$3))/$A$9*$A$10*F86*(60*60*24)","v":{"v":108.11574987942375,"d":"108.116"}},{"v":1.0811574987942374,"d":"1.1"}]
[{"$nulls":3},83,{"v":0.8300000000000001,"d":"0.8"},{"v":5.9956738090269,"d":"6.0"},{"$f":"(EXP('Experimentelle Daten'!$Z$3/8.31446/($A$3+273.15)+'Experimentelle Daten'!$AA$3))/$A$9*$A$10*F87*(60*60*24)","v":{"v":108.11481032911634,"d":"108.115"}},{"v":1.0811481032911634,"d":"1.1"}]
[{"$nulls":3},84,{"v":0.84,"d":"0.8"},{"v":5.9956217052661,"d":"6.0"},{"$f":"(EXP('Experimentelle Daten'!$Z$3/8.31446/($A$3+273.15)+'Experimentelle Daten'!$AA$3))/$A$9*$A$10*F88*(60*60*24)","v":{"v":108.11387078697382,"d":"108.114"}},{"v":1.0811387078697383,"d":"1.1"}]
[{"$nulls":3},85,{"v":0.85,"d":"0.9"},{"v":5.995569601958093,"d":"6.0"},{"$f":"(EXP('Experimentelle Daten'!$Z$3/8.31446/($A$3+273.15)+'Experimentelle Daten'!$AA$3))/$A$9*$A$10*F89*(60*60*24)","v":{"v":108.11293125299613,"d":"108.113"}},{"v":1.0811293125299615,"d":"1.1"}]
[{"$nulls":3},86,{"v":0.86,"d":"0.9"},{"v":5.995517499102876,"d":"6.0"},{"$f":"(EXP('Experimentelle Daten'!$Z$3/8.31446/($A$3+273.15)+'Experimentelle Daten'!$AA$3))/$A$9*$A$10*F90*(60*60*24)","v":{"v":108.11199172718322,"d":"108.112"}},{"v":1.0811199172718322,"d":"1.1"}]
[{"$nulls":3},87,{"v":0.87,"d":"0.9"},{"v":5.995465396700444,"d":"6.0"},{"$f":"(EXP('Experimentelle Daten'!$Z$3/8.31446/($A$3+273.15)+'Experimentelle Daten'!$AA$3))/$A$9*$A$10*F91*(60*60*24)","v":{"v":108.111052209535,"d":"108.111"}},{"v":1.08111052209535,"d":"1.1"}]
[{"$nulls":3},88,{"v":0.88,"d":"0.9"},{"v":5.9954132947507945,"d":"6.0"},{"$f":"(EXP('Experimentelle Daten'!$Z$3/8.31446/($A$3+273.15)+'Experimentelle Daten'!$AA$3))/$A$9*$A$10*F92*(60*60*24)","v":{"v":108.1101127000514,"d":"108.110"}},{"v":1.081101127000514,"d":"1.1"}]
[{"$nulls":3},89,{"v":0.89,"d":"0.9"},{"v":5.995361193253923,"d":"6.0"},{"$f":"(EXP('Experimentelle Daten'!$Z$3/8.31446/($A$3+273.15)+'Experimentelle Daten'!$AA$3))/$A$9*$A$10*F93*(60*60*24)","v":{"v":108.10917319873235,"d":"108.109"}},{"v":1.0810917319873234,"d":"1.1"}]
[{"$nulls":3},90,0.9,{"v":5.995309092209825,"d":"6.0"},{"$f":"(EXP('Experimentelle Daten'!$Z$3/8.31446/($A$3+273.15)+'Experimentelle Daten'!$AA$3))/$A$9*$A$10*F94*(60*60*24)","v":{"v":108.10823370557779,"d":"108.108"}},{"v":1.0810823370557778,"d":"1.1"}]
[{"$nulls":3},91,{"v":0.91,"d":"0.9"},{"v":5.995256991618497,"d":"6.0"},{"$f":"(EXP('Experimentelle Daten'!$Z$3/8.31446/($A$3+273.15)+'Experimentelle Daten'!$AA$3))/$A$9*$A$10*F95*(60*60*24)","v":{"v":108.10729422058765,"d":"108.107"}},{"v":1.0810729422058765,"d":"1.1"}]
[{"$nulls":3},92,{"v":0.92,"d":"0.9"},{"v":5.9952048914799345,"d":"6.0"},{"$f":"(EXP('Experimentelle Daten'!$Z$3/8.31446/($A$3+273.15)+'Experimentelle Daten'!$AA$3))/$A$9*$A$10*F96*(60*60*24)","v":{"v":108.1063547437618,"d":"108.106"}},{"v":1.081063547437618,"d":"1.1"}]
[{"$nulls":3},93,{"v":0.93,"d":"0.9"},{"v":5.995152791794134,"d":"6.0"},{"$f":"(EXP('Experimentelle Daten'!$Z$3/8.31446/($A$3+273.15)+'Experimentelle Daten'!$AA$3))/$A$9*$A$10*F97*(60*60*24)","v":{"v":108.10541527510024,"d":"108.105"}},{"v":1.0810541527510025,"d":"1.1"}]
[{"$nulls":3},94,{"v":0.9400000000000001,"d":"0.9"},{"v":5.995100692561092,"d":"6.0"},{"$f":"(EXP('Experimentelle Daten'!$Z$3/8.31446/($A$3+273.15)+'Experimentelle Daten'!$AA$3))/$A$9*$A$10*F98*(60*60*24)","v":{"v":108.10447581460289,"d":"108.104"}},{"v":1.081044758146029,"d":"1.1"}]
[{"$nulls":3},95,{"v":0.9500000000000001,"d":"1.0"},{"v":5.995048593780804,"d":"6.0"},{"$f":"(EXP('Experimentelle Daten'!$Z$3/8.31446/($A$3+273.15)+'Experimentelle Daten'!$AA$3))/$A$9*$A$10*F99*(60*60*24)","v":{"v":108.10353636226965,"d":"108.104"}},{"v":1.0810353636226966,"d":"1.1"}]
[{"$nulls":3},96,{"$f":"$A$7/100*D100","v":{"v":0.96,"d":"1.0"}},{"v":5.9949964954532655,"d":"6.0"},{"$f":"(EXP('Experimentelle Daten'!$Z$3/8.31446/($A$3+273.15)+'Experimentelle Daten'!$AA$3))/$A$9*$A$10*F100*(60*60*24)","v":{"v":108.10259691810046,"d":"108.103"}},{"v":1.0810259691810047,"d":"1.1"}]
[{"$nulls":3},97,{"v":0.97,"d":"1.0"},{"v":5.9949443975784735,"d":"6.0"},{"$f":"(EXP('Experimentelle Daten'!$Z$3/8.31446/($A$3+273.15)+'Experimentelle Daten'!$AA$3))/$A$9*$A$10*F101*(60*60*24)","v":{"v":108.10165748209525,"d":"108.102"}},{"v":1.0810165748209526,"d":"1.1"}]
[{"$nulls":3},98,{"v":0.98,"d":"1.0"},{"v":5.994892300156424,"d":"6.0"},{"$f":"(EXP('Experimentelle Daten'!$Z$3/8.31446/($A$3+273.15)+'Experimentelle Daten'!$AA$3))/$A$9*$A$10*F102*(60*60*24)","v":{"v":108.10071805425396,"d":"108.101"}},{"v":1.0810071805425396,"d":"1.1"}]
[{"$nulls":3},99,{"v":0.99,"d":"1.0"},{"v":5.994840203187113,"d":"6.0"},{"$f":"(EXP('Experimentelle Daten'!$Z$3/8.31446/($A$3+273.15)+'Experimentelle Daten'!$AA$3))/$A$9*$A$10*F103*(60*60*24)","v":{"v":108.09977863457651,"d":"108.100"}},{"v":1.0809977863457652,"d":"1.1"}]
[{"$nulls":3},100,{"v":1,"d":"1.0"},{"v":5.994788106670537,"d":"6.0"},{"$f":"(EXP('Experimentelle Daten'!$Z$3/8.31446/($A$3+273.15)+'Experimentelle Daten'!$AA$3))/$A$9*$A$10*F104*(60*60*24)","v":{"v":108.09883922306282,"d":"108.099"}},{"v":1.0809883922306283,"d":"1.1"}]

{"sheet":"Experimentelle Daten","index":5,"n_rows":18,"n_cols":27,"rows_kept":18,"hidden":true}
[]
["Messungen durchgeführt an\nRAUPEX-A-Rohr 20x1,9","Länge \n/ mm","Da\n/ mm","Wand\n/ mm","P-Fläche\n/ m2","T \n/ °C","V \n/ cm3","p(Ar) \n/ bar","P \n/ bar Std-1","P \n/ mbar s-1","P \n/ mbar L s-1 =\ncm3 s-1","P \n/ cm3 s-1 bar-1","Bezeichnung","P \n/ cm3 s-1 bar-1",null,null,"P(net) \n/ cm3 s-1 bar-1","T\n/ K","P(net) \n/ cm3 mm s-1 m-2 bar-1","T-1\n/ K-1","ln(P)",null,"Test\n/ cm3 mm s-1 m-2 bar-1","Abweichung\n/ %",null,"EA \n/ J mol-1","ln(P0)"]
["Rohr Lang",402.5,20,1.9,{"$f":"((C3-(2*D3))*PI()*B3)/1000/1000","v":{"v":0.020484754897732244,"d":"2.05E-02"}},23,{"v":89.37732952866534,"d":"89.4"},{"v":9.733,"d":"9.7"},{"v":-4.1142584297665635E-3,"d":"-4.1E-03"},{"$f":"I3*1000/60/60","v":{"v":-1.1428495638240452E-3,"d":"-1.1E-03"}},{"$f":"J3*(G3/1000)","v":{"v":-1.0214484206759313E-4,"d":"-1.0E-04"}},{"$f":"K3/H3","v":{"v":-1.0494692496413555E-5,"d":"-1.0E-05"}},{"$f":"A3&\" - \"&F3&\" °C\"","v":"Rohr Lang - 23 °C"},{"$f":"ABS(L3)","v":{"v":1.0494692496413555E-5,"d":"1.0E-05"}},"okay",null,{"$f":"N3-VLOOKUP(F3,$F$15:$N$16,9,TRUE)","v":{"v":1.0486966814185664E-5,"d":"1.0E-05"}},{"$f":"F3+273.15","v":296.15},{"$f":"Q3/E3*D3","v":{"v":9.72686129095866E-4,"d":"9.73E-04"}},{"$f":"1/R3","v":{"v":3.3766672294445383E-3,"d":"3.4E-03"}},{"$f":"LN(S3)","v":{"v":-6.935449108398364,"d":"-6.94"}},null,{"$f":"EXP($Z$3/8.31446/(F3+273.15)+$AA$3)","v":{"v":8.7764198999766259E-4,"d":"8.78E-04"}},{"$f":"(ABS(W3-S3)/S3)*100","v":{"v":9.77130610329039,"d":"10"}},null,{"$f":"SLOPE(U3:U13,T3:T13)*8.31446","v":{"v":-37933.57081875931,"d":"-37934"}},{"$f":"(INTERCEPT(U3:U13,T3:T13))","v":{"v":8.367304202329505,"d":"8.4"}}]
["Rohr Lang",402.5,20,1.9,{"$f":"((C4-(2*D4))*PI()*B4)/1000/1000","v":{"v":0.020484754897732244,"d":"2.05E-02"}},23,{"v":89.37732952866534,"d":"89.4"},{"v":9.283999999999999,"d":"9.3"},{"v":-3.5226076416835514E-3,"d":"-3.5E-03"},{"$f":"I4*1000/60/60","v":{"v":-9.7850212268987542E-4,"d":"-9.8E-04"}},{"$f":"J4*(G4/1000)","v":{"v":-8.7455906664151521E-5,"d":"-8.7E-05"}},{"$f":"K4/H4","v":{"v":-9.420067499370049E-6,"d":"-9.4E-06"}},{"$f":"A4&\" - \"&F4&\" °C\"","v":"Rohr Lang - 23 °C"},{"$f":"ABS(L4)","v":{"v":9.420067499370049E-6,"d":"9.4E-06"}},"okay",null,{"$f":"N4-VLOOKUP(F4,$F$15:$N$16,9,TRUE)","v":{"v":9.4123418171421576E-6,"d":"9.4E-06"}},{"$f":"F4+273.15","v":296.15},{"$f":"Q4/E4*D4","v":{"v":8.7301261556953647E-4,"d":"8.73E-04"}},{"$f":"1/R4","v":{"v":3.3766672294445383E-3,"d":"3.4E-03"}},{"$f":"LN(S4)","v":{"v":-7.043560551404873,"d":"-7.04"}},null,{"$f":"EXP($Z$3/8.31446/(F4+273.15)+$AA$3)","v":{"v":8.7764198999766259E-4,"d":"8.78E-04"}},{"$f":"(ABS(W4-S4)/S4)*100","v":{"v":0.5302757767258613,"d":"1"}},null,"",""]
["Rohr Lang",402.5,20,1.9,{"$f":"((C5-(2*D5))*PI()*B5)/1000/1000","v":{"v":0.020484754897732244,"d":"2.05E-02"}},35,{"v":89.37732952866534,"d":"89.4"},{"v":9.8945,"d":"9.9"},{"v":-0.007195614938575643,"d":"-7.2E-03"},{"$f":"I5*1000/60/60","v":{"v":-0.001998781927382123,"d":"-2.0E-03"}},{"$f":"J5*(G5/1000)","v":{"v":-1.7864579097957286E-4,"d":"-1.8E-04"}},{"$f":"K5/H5","v":{"v":-1.8055059980754242E-5,"d":"-1.8E-05"}},{"$f":"A5&\" - \"&F5&\" °C\"","v":"Rohr Lang - 35 °C"},{"$f":"ABS(L5)","v":{"v":1.8055059980754242E-5,"d":"1.8E-05"}},"okay",null,{"$f":"N5-VLOOKUP(F5,$F$15:$N$16,9,TRUE)","v":{"v":1.8035171897180303E-5,"d":"1.8E-05"}},{"$f":"F5+273.15","v":308.15},{"$f":"Q5/E5*D5","v":{"v":1.6727965150530586E-3,"d":"1.67E-03"}},{"$f":"1/R5","v":{"v":3.2451728054518907E-3,"d":"3.2E-03"}},{"$f":"LN(S5)","v":{"v":-6.393258493153636,"d":"-6.39"}},null,{"$f":"EXP($Z$3/8.31446/(F5+273.15)+$AA$3)","v":{"v":1.5990481579139348E-3,"d":"1.60E-03"}},{"v":4.408686679789301,"d":"4"},null,"",""]
[]
["Rohr Mittel",204,20,1.9,{"$f":"((C7-(2*D7))*PI()*B7)/1000/1000","v":{"v":0.010382335401583549,"d":"1.04E-02"}},23,{"v":50.52049620619302,"d":"50.5"},{"v":8.9375,"d":"8.9"},{"v":-2.7335115034867862E-3,"d":"-2.7E-03"},{"$f":"I7*1000/60/60","v":{"v":-7.5930875096855165E-4,"d":"-7.6E-04"}},{"$f":"J7*(G7/1000)","v":{"v":-3.8360654872635881E-5,"d":"-3.8E-05"}},{"$f":"K7/H7","v":{"v":-4.2921012444907283E-6,"d":"-4.3E-06"}},{"$f":"A7&\" - \"&F7&\" °C\"","v":"Rohr Mittel - 23 °C"},{"$f":"ABS(L7)","v":{"v":4.2921012444907283E-6,"d":"4.3E-06"}},"okay",null,{"$f":"N7-VLOOKUP(F7,$F$15:$N$16,9,TRUE)","v":{"v":4.284375562262837E-6,"d":"4.3E-06"}},{"$f":"F7+273.15","v":296.15},{"$f":"Q7/E7*D7","v":{"v":0.000784054189489756,"d":"7.84E-04"}},{"$f":"1/R7","v":{"v":3.3766672294445383E-3,"d":"3.4E-03"}},{"$f":"LN(S7)","v":{"v":-7.151032420755354,"d":"-7.15"}},null,{"$f":"EXP($Z$3/8.31446/(F7+273.15)+$AA$3)","v":{"v":8.7764198999766259E-4,"d":"8.78E-04"}},{"v":11.9363944179434,"d":"12"}]
["Rohr Mittel",204,20,1.9,{"$f":"((C8-(2*D8))*PI()*B8)/1000/1000","v":{"v":0.010382335401583549,"d":"1.04E-02"}},23,{"v":50.52049620619302,"d":"50.5"},{"v":9.066,"d":"9.1"},{"v":-2.9596474960690245E-3,"d":"-3.0E-03"},{"$f":"I8*1000/60/60","v":{"v":-8.2212430446361787E-4,"d":"-8.2E-04"}},{"$f":"J8*(G8/1000)","v":{"v":-4.1534127804673283E-5,"d":"-4.2E-05"}},{"$f":"K8/H8","v":{"v":-4.5813068392536156E-6,"d":"-4.6E-06"}},{"$f":"A8&\" - \"&F8&\" °C\"","v":"Rohr Mittel - 23 °C"},{"$f":"ABS(L8)","v":{"v":4.5813068392536156E-6,"d":"4.6E-06"}},"okay",null,{"$f":"N8-VLOOKUP(F8,$F$15:$N$16,9,TRUE)","v":{"v":4.5735811570257243E-6,"d":"4.6E-06"}},{"$f":"F8+273.15","v":296.15},{"$f":"Q8/E8*D8","v":{"v":0.000836979722021259,"d":"8.37E-04"}},{"$f":"1/R8","v":{"v":3.3766672294445383E-3,"d":"3.4E-03"}},{"$f":"LN(S8)","v":{"v":-7.0857107147440725,"d":"-7.09"}},null,{"$f":"EXP($Z$3/8.31446/(F8+273.15)+$AA$3)","v":{"v":8.7764198999766259E-4,"d":"8.78E-04"}},{"v":4.858214232264368,"d":"5"}]
["Rohr Mittel",204,20,1.9,{"$f":"((C9-(2*D9))*PI()*B9)/1000/1000","v":{"v":0.010382335401583549,"d":"1.04E-02"}},35,{"v":50.52049620619302,"d":"50.5"},{"v":9.543,"d":"9.5"},{"v":-5.708389496631004E-3,"d":"-5.7E-03"},{"$f":"I9*1000/60/60","v":{"v":-1.5856637490641679E-3,"d":"-1.6E-03"}},{"$f":"J9*(G9/1000)","v":{"v":-8.01085194188941e-05,"d":"-8.0E-05"}},{"$f":"K9/H9","v":{"v":-8.3944796624640156E-6,"d":"-8.4E-06"}},{"$f":"A9&\" - \"&F9&\" °C\"","v":"Rohr Mittel - 35 °C"},{"$f":"ABS(L9)","v":{"v":8.3944796624640156E-6,"d":"8.4E-06"}},"okay",null,{"$f":"N9-VLOOKUP(F9,$F$15:$N$16,9,TRUE)","v":{"v":8.3745915788900766E-6,"d":"8.4E-06"}},{"$f":"F9+273.15","v":308.15},{"$f":"Q9/E9*D9","v":{"v":1.5325765720749336E-3,"d":"1.53E-03"}},{"$f":"1/R9","v":{"v":3.2451728054518907E-3,"d":"3.2E-03"}},{"$f":"LN(S9)","v":{"v":-6.480804925937257,"d":"-6.48"}},null,{"$f":"EXP($Z$3/8.31446/(F9+273.15)+$AA$3)","v":{"v":1.5990481579139348E-3,"d":"1.60E-03"}},{"v":4.337244027488056,"d":"4"}]
["Rohr Mittel",204,20,1.9,{"$f":"((C10-(2*D10))*PI()*B10)/1000/1000","v":{"v":0.010382335401583549,"d":"1.04E-02"}},35,{"v":50.52049620619302,"d":"50.5"},{"v":9.717,"d":"9.7"},{"v":-0.005437583219843854,"d":"-5.4E-03"},{"$f":"I10*1000/60/60","v":{"v":-1.5104397832899595E-3,"d":"-1.5E-03"}},{"$f":"J10*(G10/1000)","v":{"v":-7.6308167341383414E-5,"d":"-7.6E-05"}},{"$f":"K10/H10","v":{"v":-7.85305828356318e-06,"d":"-7.9E-06"}},{"$f":"A10&\" - \"&F10&\" °C\"","v":"Rohr Mittel - 35 °C"},{"$f":"ABS(L10)","v":{"v":7.85305828356318e-06,"d":"7.9E-06"}},"okay",null,{"$f":"N10-VLOOKUP(F10,$F$15:$N$16,9,TRUE)","v":{"v":7.83317019998924e-06,"d":"7.8E-06"}},{"$f":"F10+273.15","v":308.15},{"$f":"Q10/E10*D10","v":{"v":0.001433494758579033,"d":"1.43E-03"}},{"$f":"1/R10","v":{"v":3.2451728054518907E-3,"d":"3.2E-03"}},{"$f":"LN(S10)","v":{"v":-6.547639929027699,"d":"-6.55"}},null,{"$f":"EXP($Z$3/8.31446/(F10+273.15)+$AA$3)","v":{"v":1.5990481579139348E-3,"d":"1.60E-03"}},{"v":11.548936495520113,"d":"12"}]
[]
["Rohr Kurz",29.5,20,1.9,{"$f":"((C12-(2*D12))*PI()*B12)/1000/1000","v":{"v":1.5013671291505622E-3,"d":"1.50E-03"}},23,{"v":17.850474401657422,"d":"17.9"},{"v":9.357,"d":"9.4"},{"v":-1.4079134116302848E-3,"d":"-1.4E-03"},{"$f":"I12*1000/60/60","v":{"v":-3.9108705878619019E-4,"d":"-3.9E-04"}},{"$f":"J12*(G12/1000)","v":{"v":-6.9810895316823793E-6,"d":"-7.0E-06"}},{"$f":"K12/H12","v":{"v":-7.460820275389954E-7,"d":"-7.5E-07"}},{"$f":"A12&\" - \"&F12&\" °C\"","v":"Rohr Kurz - 23 °C"},{"$f":"ABS(L12)","v":{"v":7.460820275389954E-7,"d":"7.5E-07"}},"okay",null,{"$f":"N12-VLOOKUP(F12,$F$15:$N$16,9,TRUE)","v":{"v":7.38356345311104e-07,"d":"7.4E-07"}},{"$f":"F12+273.15","v":296.15},{"$f":"Q12/E12*D12","v":{"v":9.3439974064492271E-4,"d":"9.34E-04"}},{"$f":"1/R12","v":{"v":3.3766672294445383E-3,"d":"3.4E-03"}},{"$f":"LN(S12)","v":{"v":-6.975606223453575,"d":"-6.98"}},null,{"$f":"EXP($Z$3/8.31446/(F12+273.15)+$AA$3)","v":{"v":8.7764198999766259E-4,"d":"8.78E-04"}},{"v":6.074247260394777,"d":"6"}]
["Rohr Kurz",29.5,20,1.9,{"$f":"((C13-(2*D13))*PI()*B13)/1000/1000","v":{"v":1.5013671291505622E-3,"d":"1.50E-03"}},35,{"v":17.850474401657422,"d":"17.9"},{"v":9.788,"d":"9.8"},{"v":-2.8142704137858253E-3,"d":"-2.8E-03"},{"$f":"I13*1000/60/60","v":{"v":-7.817417816071737E-4,"d":"-7.8E-04"}},{"$f":"J13*(G13/1000)","v":{"v":-1.395446166128492E-5,"d":"-1.4E-05"}},{"$f":"K13/H13","v":{"v":-1.4256703781451697E-6,"d":"-1.4E-06"}},{"$f":"A13&\" - \"&F13&\" °C\"","v":"Rohr Kurz - 35 °C"},{"$f":"ABS(L13)","v":{"v":1.4256703781451697E-6,"d":"1.4E-06"}},"okay",null,{"$f":"N13-VLOOKUP(F13,$F$15:$N$16,9,TRUE)","v":{"v":1.4057822945712313E-6,"d":"1.4E-06"}},{"$f":"F13+273.15","v":308.15},{"$f":"Q13/E13*D13","v":{"v":1.7790361250259422E-3,"d":"1.78E-03"}},{"$f":"1/R13","v":{"v":3.2451728054518907E-3,"d":"3.2E-03"}},{"$f":"LN(S13)","v":{"v":-6.331683564138145,"d":"-6.33"}},null,{"$f":"EXP($Z$3/8.31446/(F13+273.15)+$AA$3)","v":{"v":1.5990481579139348E-3,"d":"1.60E-03"}},{"v":10.117162017122208,"d":"10"}]
[]
["Metall Blind","-",{"$nulls":3},23,{"v":4.083790971261095,"d":"4.1"},{"v":9.6815,"d":"9.7"},{"v":-6.5935375942720515E-5,"d":"-6.6E-05"},{"$f":"I15*1000/60/60","v":{"v":-1.8315382206311258E-5,"d":"-1.8E-05"}},{"$f":"J15*(G15/1000)","v":{"v":-7.4796192489330032E-8,"d":"-7.5E-08"}},{"$f":"K15/H15","v":{"v":-7.7256822278913429E-9,"d":"-7.7E-09"}},{"$f":"A15&\" - \"&F15&\" °C\"","v":"Metall Blind - 23 °C"},{"$f":"ABS(L15)","v":{"v":7.7256822278913429E-9,"d":"7.7E-09"}},"okay"]
["Metall Blind","-",{"$nulls":3},35,{"v":4.083790971261095,"d":"4.1"},{"v":10.088000000000001,"d":"10.1"},{"v":-1.7686300758801242E-4,"d":"-1.8E-04"},{"$f":"I16*1000/60/60","v":{"v":-4.9128613218892333E-5,"d":"-4.9E-05"}},{"$f":"J16*(G16/1000)","v":{"v":-2.00630987093891e-07,"d":"-2.0E-07"}},{"$f":"K16/H16","v":{"v":-1.988808357393844E-8,"d":"-2.0E-08"}},{"$f":"A16&\" - \"&F16&\" °C\"","v":"Metall Blind - 35 °C"},{"$f":"ABS(L16)","v":{"v":1.988808357393844E-8,"d":"2.0E-08"}},"okay"]
[]
["Balkengrafik / Ergebnis-Zusammenfassung",{"$nulls":15},"P-Rate in Abhängigkeit Rohrlänge (23 °C / 35 °C)",{"$nulls":7},"Arrehnius Plot"]